View In:
ArcGIS JavaScript
ArcGIS Online map viewer
Google Earth
ArcMap
View Footprint In:
ArcGIS Online map viewer
Service Description: Aerial ortho-imagery as flown by Pictometry (EagleView) in the Spring of 2017; 9" GSD resolution. CACHED LAYER in Cache #2 location < ODrive >.
Name: Imagery/2017Pictometry9Inch
Description: Aerial ortho-imagery as flown by Pictometry (EagleView) in the Spring of 2017; 9" GSD resolution. CACHED LAYER in Cache #2 location < ODrive >.
Single Fused Map Cache: true
Tile Info:
- Height: 256
- Width: 256
- DPI: 96
-
Levels of Detail: 12
- Format: PNG
- Compression Quality: 0.0
- LERC Error: NaN
- Origin: X: -1.192142E8
Y: 1.461669E8
- Spatial Reference: 3652
(3652)
Extent:
XMin: 1868579.25
YMin: 137605.5
XMax: 2055255
YMax: 348805.5
Spatial Reference: null
Initial Extent:
XMin: 1868579.25
YMin: 137605.5
XMax: 2055255
YMax: 348805.5
Spatial Reference: null
Full Extent:
XMin: 1868579.25
YMin: 137605.5
XMax: 2055255
YMax: 348805.5
Spatial Reference: null
Pixel Size X: 0.75
Pixel Size Y: 0.75
Band Count: 3
Pixel Type: U8
RasterFunction Infos: N/A
Mensuration Capabilities:
Has Histograms: true
Has Colormap: false
Has Multi Dimensions : false
Rendering Rule:
Min Scale: 577790.554289
Max Scale: 282
Copyright Text:
Service Data Type: esriImageServiceDataTypeRGB
Min Values: 55, 39, 32
Max Values: 255, 255, 255
Mean Values: 178.92967450701, 173.00071275837, 159.73604181516
Standard Deviation Values: 63.952017799115, 67.767114446425, 78.007394886858
Object ID Field:
Fields:
None
Default Mosaic Method: Center
Allowed Mosaic Methods:
SortField:
SortValue: null
Mosaic Operator: First
Default Compression Quality: 75
Default Resampling Method: Bilinear
Max Record Count: null
Max Image Height: 4100
Max Image Width: 15000
Max Download Image Count: null
Max Mosaic Image Count: null
Allow Raster Function: true
Allow Compute TiePoints: false
Supports Statistics: false
Supports Advanced Queries: false
Use StandardizedQueries: true
Raster Type Infos:
Name: Raster Dataset
Description: Supports all ArcGIS Raster Datasets
Help:
Has Raster Attribute Table: false
Edit Fields Info: null
Ownership Based AccessControl For Rasters: null
Child Resources:
Info
Histograms
Key Properties
Legend
MultiDimensionalInfo
rasterFunctionInfos
Supported Operations:
Export Image
Identify
Measure
Compute Histograms
Compute Statistics Histograms
Get Samples
Compute Class Statistics