{
 "currentVersion": 10.4,
 "serviceDescription": "Aerial ortho-imagery as flown by Pictometry (EagleView) in the Spring of 2017; 9\" GSD resolution. CACHED LAYER in Cache #2 location < ODrive >.",
 "name": "Imagery/2017Pictometry9Inch",
 "description": "Aerial ortho-imagery as flown by Pictometry (EagleView) in the Spring of 2017; 9\" GSD resolution. CACHED LAYER in Cache #2 location < ODrive >.",
 "extent": {
  "xmin": 1868579.25,
  "ymin": 137605.5,
  "xmax": 2055255,
  "ymax": 348805.5,
  "spatialReference": {
   "wkid": null
  }
 },
 "initialExtent": {
  "xmin": 1868579.25,
  "ymin": 137605.5,
  "xmax": 2055255,
  "ymax": 348805.5,
  "spatialReference": {
   "wkid": null
  }
 },
 "fullExtent": {
  "xmin": 1868579.25,
  "ymin": 137605.5,
  "xmax": 2055255,
  "ymax": 348805.5,
  "spatialReference": {
   "wkid": null
  }
 },
 "pixelSizeX": 0.75,
 "pixelSizeY": 0.75,
 "bandCount": 3,
 "pixelType": "U8",
 "minPixelSize": 0.24479166666666666,
 "maxPixelSize": 501.55430059809026,
 "copyrightText": "",
 "serviceDataType": "esriImageServiceDataTypeRGB",
 "minValues": [
  55,
  39,
  32
 ],
 "maxValues": [
  255,
  255,
  255
 ],
 "meanValues": [
  178.92967450701,
  173.00071275837,
  159.73604181516
 ],
 "stdvValues": [
  63.952017799115,
  67.767114446425,
  78.007394886858
 ],
 "objectIdField": "",
 "fields": [],
 "capabilities": "Image,Metadata,Mensuration",
 "defaultMosaicMethod": "Center",
 "allowedMosaicMethods": "",
 "sortField": "",
 "sortValue": null,
 "mosaicOperator": "First",
 "defaultCompressionQuality": 75,
 "defaultResamplingMethod": "Bilinear",
 "maxImageHeight": 4100,
 "maxImageWidth": 15000,
 "singleFusedMapCache": true,
 "tileInfo": {
  "rows": 256,
  "cols": 256,
  "dpi": 96,
  "format": "PNG",
  "compressionQuality": 0,
  "origin": {
   "x": -119214200,
   "y": 146166900
  },
  "spatialReference": {
   "wkid": 3652,
   "latestWkid": 3652
  },
  "lods": [
   {
    "level": 0,
    "resolution": 501.55430059809026,
    "scale": 577790.554289
   },
   {
    "level": 1,
    "resolution": 250.7771502986111,
    "scale": 288895.277144
   },
   {
    "level": 2,
    "resolution": 125.38857514930555,
    "scale": 144447.638572
   },
   {
    "level": 3,
    "resolution": 62.694287574652776,
    "scale": 72223.819286
   },
   {
    "level": 4,
    "resolution": 31.347143787326388,
    "scale": 36111.909643
   },
   {
    "level": 5,
    "resolution": 15.673571894097222,
    "scale": 18055.954822
   },
   {
    "level": 6,
    "resolution": 7.836785947048611,
    "scale": 9027.977411
   },
   {
    "level": 7,
    "resolution": 3.9183929730902776,
    "scale": 4513.988705
   },
   {
    "level": 8,
    "resolution": 1.9591964869791667,
    "scale": 2256.994353
   },
   {
    "level": 9,
    "resolution": 0.9795982430555555,
    "scale": 1128.497176
   },
   {
    "level": 10,
    "resolution": 0.4895833333333333,
    "scale": 564
   },
   {
    "level": 11,
    "resolution": 0.24479166666666666,
    "scale": 282
   }
  ]
 },
 "cacheType": "Map",
 "allowRasterFunction": true,
 "rasterFunctionInfos": [],
 "rasterTypeInfos": [
  {
   "name": "Raster Dataset",
   "description": "Supports all ArcGIS Raster Datasets",
   "help": ""
  }
 ],
 "mensurationCapabilities": "",
 "hasHistograms": true,
 "hasColormap": false,
 "hasRasterAttributeTable": false,
 "minScale": 577790.554289,
 "maxScale": 282,
 "exportTilesAllowed": false,
 "hasMultidimensions": false,
 "supportsStatistics": false,
 "supportsAdvancedQueries": false,
 "editFieldsInfo": null,
 "ownershipBasedAccessControlForRasters": null,
 "allowComputeTiePoints": false,
 "useStandardizedQueries": true,
 "advancedQueryCapabilities": {
  "useStandardizedQueries": true,
  "supportsStatistics": false,
  "supportsOrderBy": false,
  "supportsDistinct": false,
  "supportsPagination": false
 },
 "spatialReference": {
  "wkid": null
 }
}
